BEGIN:VCALENDAR
VERSION:2.0
PRODID:-//CPD Essentials - ECPv6.15.14//NONSGML v1.0//EN
CALSCALE:GREGORIAN
METHOD:PUBLISH
X-ORIGINAL-URL:https://cpdessentials.co.uk
X-WR-CALDESC:Events for CPD Essentials
REFRESH-INTERVAL;VALUE=DURATION:PT1H
X-Robots-Tag:noindex
X-PUBLISHED-TTL:PT1H
BEGIN:VTIMEZONE
TZID:UTC
BEGIN:STANDARD
TZOFFSETFROM:+0000
TZOFFSETTO:+0000
TZNAME:UTC
DTSTART:20150101T000000
END:STANDARD
END:VTIMEZONE
BEGIN:VEVENT
DTSTART;TZID=UTC:20160906T183000
DTEND;TZID=UTC:20170606T193000
DTSTAMP:20260421T100928
CREATED:20160728T192928Z
LAST-MODIFIED:20160728T193524Z
UID:2909-1473186600-1496777400@cpdessentials.co.uk
SUMMARY:Wessex Surveyors CPD Club
DESCRIPTION:Wessex Surveyors CPD is a not for profit club which aims to provide an affordable alternative to your CPD requirements. Organised by an experienced committee of Chartered Surveyors who have been involved in organising CPD locally for many years\, the programme sets out to offer core topical CPD at a value for money price.\nThe programme which starts in September and runs typically on the first Tuesday and second Wednesday of each month at 1830 at the easily accessible Mortimer Arms\, Ower (just off J2 of M27)\, includes the following topics. The speakers are all experienced and well respected members of their profession who have received good feedback from previous events. \n[custom_list style=”list-1″] \nLegal update\nBats\nRating\nConstruction legal update\nDilapidations\nMEES\nPlanning \n[custom_list style=”list-1″] \nThe Programme 2016-17 can be downloaded here \nThe cost for the whole programme is £90.00 (£65.00) for trainees) for the year which runs from September 2016 through to June 2017. With a minimum of 15 seminars this works out at just over £5 per event. All members will also receive a complimentary drink of their choice from the bar each time they attend. Each member will receive a membership card and an annual record of the seminars attended to help complete CPD records. \nMore detail can be found on the Wessex Surveyors CPD website \nTo join the club you can  print off the Application form and pay by BACS or cheque as instructed on the form
URL:https://cpdessentials.co.uk/event/wessex-surveyors-cpd-club/
LOCATION:Mortimer Arms Hotel\, Romsey Rd\, Ower\, SO51 6AF\, United Kingdom
CATEGORIES:Evening seminars
END:VEVENT
BEGIN:VEVENT
DTSTART;TZID=UTC:20160909T100000
DTEND;TZID=UTC:20160909T163000
DTSTAMP:20260421T100928
CREATED:20160711T140906Z
LAST-MODIFIED:20160713T073413Z
UID:2864-1473415200-1473438600@cpdessentials.co.uk
SUMMARY:Historic Building workshop\, Bricks and mortars\, Fountains Abbey\, Ripon
DESCRIPTION:Historic Building workshops\n\n\nBricks and mortars\n\nDate: 9 September 2016 \nWhen: 1000 – 1630 \nWhere: Fountains Abbey\, Riipon \nCost:  £120.00 plus VAT (£144.00) to include seminar proceedings\, all refreshments\, lunch and comprehensive delegate pack \nThe day’s course will consider in depth three aspects of building conservation. \n[custom_list style=”list-1″] \n\nThe History and Architectural Development of Stone Structures\nCare and Repair of Historic Stonework\nThe History of Brickmaking and Building in Brick\nInterpreting Historic Brickwork\nCare and Repair of Historic Masonry structures and Selection of Mortars\n\n[/custom_list] \nThe venue has been carefully chosen as it represents a fine example of Medieval and later stonework. The abbey was one of the largest and wealthiest in Medieval Europe and displays good examples of stone construction from 1132 to the 16th century Dissolution of the monastery’s. Its isolated location saved it from total destruction and its inclusion as a romantic ruin in the 18th century landscaped park and water gardens ensured its survival today as the most complete monastic ruin in the country. The site also contains the late 16th century Fountains Hall\, a number of 18th century garden buildings and statues and the fine 19th century church designed by Burges. The complex has the high status of a World Heritage Site. The day will include formal Power Point presentations\, material handling sessions and first hand observations of part of the abbey buildings. \nSpeaker \n\n\nKevin Stubbs BA(Hons)  DipBldgCons(AA)  IHBC   CertEd\nKevin Stubbs is a Historic Buildings Consultant and comes with a background of education\, archaeology and building conservation. He was Director of Archaeology for the Test Valley in Hampshire and later moved to Hampshire County Council to join the Historic Buildings Bureau\, where he became the Principal Buildings Conservation Officer for the County. For eleven years he acted as the Director of a Conservation Centre and now runs his own Historic Building Consultancy and Training Company. \nHe advises on the repair and maintenance of all historic structures and provides training at all levels for the building conservation industry.  This includes the development of historic building technology\, traditional materials and hands-on craft training.  Work for Local Government Authorities includes Conservation Area appraisals\, historic building condition surveys and feasibility studies.  He has provided training exercises with local communities to raise awareness of their village plans and local heritage interpretation documents and he has provided Traditional Skills Awareness Courses for a number of bodies. \nHe undertakes the Historic Analysis of buildings and produces: Statements of Significance; Method Statements; Impact Assessments and Specifications for the repair and conservation of traditional buildings. \nHe lectures for various CPD providers\, Universities and national building conservation organizations including SPAB\, RICS and the Weald and Downland Museum.  Topics include: Bricks and Mortar; Lime\, Plasters and Renders; Cob and Earth\, Timber Frame and Stone Structures and Traditional Roofing. \n\nThe day will include formal Power Point presentations\, material handling sessions and first hand observations of the building.\nMain themes\nThe History and Architectural Development of Stone Structures \n\nStone Buildings are some of our oldest surviving structures in the country and there are many from the medieval and later periods in need of sensitive care and repair. The use of stone was not just confined to the grand buildings and churches but was also used for a variety of ordinary domestic and vernacular buildings. The methods of quarrying\, selection and use of stone in the past contributes much to the character and grain of our historic Cities\, Towns and Villages.\nCare and Repair of Historic Stonework. A basic understanding of historic stone structures will be developed. The identification of causes of failure and the selection of appropriate repair and conservation systems including the selection of replacement stone and methods of fixing will be considered.The History of Brickmaking and Building in Brick\nBricks have been a principal building material in many parts of the country since the 16th century.  The history and development of brick buildings and brickmaking will be examined up to the middle of the 20th century when bricks ceased to be a mainly local vernacular material and became a mass produced product by a few large international companies.\nInterpreting Historic Brickwork\nA selection of different types of bricks from different sources and periods will be handled and discussed\, paying particular attention to how they were made and fired and how this affected their durability and character. Looking closely at historic brickwork can give clues as to how the bricks were manufactured and laid and what alterations the building has gone through since its original construction.  This process can be likened to reading a detective story: the clues are there\, they just need interpreting by the observer\, thus enabling a correct and aesthetically pleasing repair/restoration to be achieved.\nCare And Repair of Historic Masonry structures and Selection of Mortars\nThe first important stage of this process is to identify the sources which have caused the problems of decay to occur; these must be resolved before the stonework or brickwork can be repaired.  It is also important to understand the nature and function of historic mortars and the dangers of the use of modern cementitious products.  The use of inappropriate mortars can result in the rapid deterioration of historic masonry and long term structural problems. The problems of water movement\, salts\, frost and the cleaning of stone and brickwork a will be examined.  The methods of re-pointing will also be considered\, not only for aesthetic reasons\, but to ensure the correct performance and durability of the new joint.\nfountain flyer can be downloaded here\nfountain booking form can be downloaded here
URL:https://cpdessentials.co.uk/event/historic-building-workshop-bricks-and-mortars-fountains-abbey-ripon/
LOCATION:Fountains Abbey\, Ripon\, Fountains\, Ripon\, HG4 3DY\, United Kingdom
CATEGORIES:Historic Buildings
ORGANIZER;CN="CPD Essentials":MAILTO:alison@cpdessentials.co.uk
END:VEVENT
BEGIN:VEVENT
DTSTART;VALUE=DATE:20160921
DTEND;VALUE=DATE:20160922
DTSTAMP:20260421T100928
CREATED:20150218T162059Z
LAST-MODIFIED:20160808T135240Z
UID:2030-1474416000-1474502399@cpdessentials.co.uk
SUMMARY:Building Surveying CPD Days - Cambridge
DESCRIPTION:A full day of CPD aimed at those working as a Building Surveyor within private practice\, local government or construction. A lively mix of topics will be presented from well known and popular speakers including Kevin Stubbs and Howard Jenkins. \n[custom_list style=”list-1″] \n\nDamp in historic buildings\nFracking/flooding\nGreen Buildings\nLegal update\nExpert Witness\nLeadwork\nPassivhaus\n[/custom_list]\n\nThe confirmed programme will be available soon \n£110.00 plus VAT (£132.00) \nPrice includes conference proceedings\, all refreshments including lunch and comprehensive delegate pack. \nCPD – Up to 7 formal hours \nBookings can be made online below or by cheque/BACS \nThe Booking form can be downloaded here \nThe Cambridge programme can be downloaded here
URL:https://cpdessentials.co.uk/event/building-surveying-cpd-days-cambridge/
LOCATION:Holiday Inn\, Cambridge\, Lakeview\, Bridge Rd\, Cambridge\, CB24 9PH\, United Kingdom
CATEGORIES:For Building Surveyors
ORGANIZER;CN="CPD Essentials":MAILTO:alison@cpdessentials.co.uk
END:VEVENT
BEGIN:VEVENT
DTSTART;VALUE=DATE:20160927
DTEND;VALUE=DATE:20160928
DTSTAMP:20260421T100928
CREATED:20160131T210316Z
LAST-MODIFIED:20160808T135049Z
UID:2247-1474934400-1475020799@cpdessentials.co.uk
SUMMARY:Building Surveying CPD Days - London Heathrow
DESCRIPTION:A full day of CPD aimed at those working as a Building Surveyor within private practice\, local government or construction. A lively mix of topics will be presented by well known and popular speakers including Kevin Stubbs and Howard Jenkins to cover: \n[custom_list style=”list-1″] \n\nDamp in historic buildings\nRadon\nBuilding regs\nFracking/flooding\nLegal update\nExpert Witness\nLeadwork\nPassivhaus\n[/custom_list]\n\nThe London programme can be downloaded here \nThe booking form london can be downloaded here \n£110.00 plus VAT (£132.00) \nPrice includes conference proceedings\, all refreshments including lunch and comprehensive delegate pack. \nCPD – Up to 7 formal hours \nBookings can be made online or by cheque/BACS
URL:https://cpdessentials.co.uk/event/building-surveying-cpd-days-london/
LOCATION:Novotel Heathrow\, Cherry Lane\, West Drayton\, UB7 9HJ
CATEGORIES:For Building Surveyors
ORGANIZER;CN="CPD Essentials":MAILTO:alison@cpdessentials.co.uk
END:VEVENT
END:VCALENDAR