BEGIN:VCALENDAR
VERSION:2.0
PRODID:-//CPD Essentials - ECPv6.15.14//NONSGML v1.0//EN
CALSCALE:GREGORIAN
METHOD:PUBLISH
X-WR-CALNAME:CPD Essentials
X-ORIGINAL-URL:https://cpdessentials.co.uk
X-WR-CALDESC:Events for CPD Essentials
REFRESH-INTERVAL;VALUE=DURATION:PT1H
X-Robots-Tag:noindex
X-PUBLISHED-TTL:PT1H
BEGIN:VTIMEZONE
TZID:UTC
BEGIN:STANDARD
TZOFFSETFROM:+0000
TZOFFSETTO:+0000
TZNAME:UTC
DTSTART:20150101T000000
END:STANDARD
END:VTIMEZONE
BEGIN:VEVENT
DTSTART;TZID=UTC:20160518T080000
DTEND;TZID=UTC:20160518T170000
DTSTAMP:20260421T162234
CREATED:20150218T161627Z
LAST-MODIFIED:20160203T141917Z
UID:2025-1463558400-1463590800@cpdessentials.co.uk
SUMMARY:Building Surveying CPD Days - Bristol
DESCRIPTION:CPD day for Building Surveyors \nDate: Wednesday 18 May 2016 \nTime: 0800 – 1730 \nPrice: £110 plus VAT (£132.00) \nVenue; Aztec Hotel\, Bristol \nA full day of CPD aimed at those working as a Building Surveyor within private practice\, local government or construction. A lively mix of topics will be presented which may include: \n[custom_list style=”list-2″] \n\nHistoric buildings/conservation\nBuilding regulations\nUAV’s\nEnvironmental reports\nLegal update\nExpert Witness\nSurveying boundary walls\nDomestic loft conversions\nPassivhaus\n\n[/custom_list] \nBuilding Surveyors CPD Day Programme the provisional programme\, this may vary between locations \nCost\n£110.00 plus VAT £22.00 (£132.00) \nPrice includes conference proceedings\, all refreshments including lunch and comprehensive delegate pack. \nCPD – Up to 7 formal hours \nBookings can be made by completing the booking form or online
URL:https://cpdessentials.co.uk/event/building-surveying-cpd-days-bristol/
LOCATION:Aztec Hotel and Spa\, Aztec West\, Almondsbury\, Bristol\, BS32 4TS\, United Kingdom
CATEGORIES:For Building Surveyors
ORGANIZER;CN="CPD Essentials":MAILTO:alison@cpdessentials.co.uk
END:VEVENT
BEGIN:VEVENT
DTSTART;TZID=UTC:20160524T080000
DTEND;TZID=UTC:20160524T170000
DTSTAMP:20260421T162234
CREATED:20160131T155406Z
LAST-MODIFIED:20160516T142206Z
UID:2231-1464076800-1464109200@cpdessentials.co.uk
SUMMARY:Residential essentials - Sheffield
DESCRIPTION:CPD Day for Residential Property Surveyors\n\n\nDATE: 24 May 2016\nTIME: 0900 – 1700\nLOCATION: Aston Hall Hotel\, Sheffield\nPRICE: £110.00 plus VAT (£132.00)\n\n\nA full day of CPD aimed at those working as Residential Property Surveyors\, this is a great way of fulfilling 6 hours of your formal CPD requirements.\n\nFollowing the success of the Residential essentials CPD series in 2015 around the UK\, CPD essentials is delighted to advise that the series of one day conferences with all new topics for 2016 aimed at Residential Property Professionals is now on sale and is coming for the first time to Cambridge.\n\nFeedback from the 2015 events includes “the best value for money CPD day I have ever attended”\n\nWell known and respected speakers such as Phillip Santo and Tom Littler\, will provide essential updates on RICS guidance to include:\n\n\n\n[custom_list style=”list-1″] \n\nDiminution of value\nTrees\nStructural movement\nFungal decay\nRICS regulation update\nRisks\nBasements\nChimneys/flues\n\n[/custom_list] \n\n\nThe full programme can be downloaded here Programme Residential \n\nThe cost of the day to include conference proceedings\, all refreshments\, lunch and a comprehensive delegate pack is £110 plus VAT £22.00 = £132.00\n\nPlease book your place by completing the booking form and returning with a cheque of paying by internet banking and emailing the form back. Invoices can be raised on request.  An acknowledgement and receipt will be emailed by return.
URL:https://cpdessentials.co.uk/event/residential-essentials-sheffield/
LOCATION:Aston Hall Hotel\, Sheffield\, Worksop Rd\, Aston\, Sheffield\, s26 2EE\, United Kingdom
CATEGORIES:For Residential Property Surveyors
END:VEVENT
END:VCALENDAR