BEGIN:VCALENDAR
VERSION:2.0
PRODID:-//CPD Essentials - ECPv6.15.14//NONSGML v1.0//EN
CALSCALE:GREGORIAN
METHOD:PUBLISH
X-WR-CALNAME:CPD Essentials
X-ORIGINAL-URL:https://cpdessentials.co.uk
X-WR-CALDESC:Events for CPD Essentials
REFRESH-INTERVAL;VALUE=DURATION:PT1H
X-Robots-Tag:noindex
X-PUBLISHED-TTL:PT1H
BEGIN:VTIMEZONE
TZID:UTC
BEGIN:STANDARD
TZOFFSETFROM:+0000
TZOFFSETTO:+0000
TZNAME:UTC
DTSTART:20190101T000000
END:STANDARD
END:VTIMEZONE
BEGIN:VEVENT
DTSTART;TZID=UTC:20200618T160000
DTEND;TZID=UTC:20200618T170000
DTSTAMP:20260424T203307
CREATED:20200615T161711Z
LAST-MODIFIED:20200615T163124Z
UID:9243-1592496000-1592499600@cpdessentials.co.uk
SUMMARY:WEBINAR - Site interaction risk assessments (FREE)
DESCRIPTION:Site interaction – risk assessment\nDate: Thursday 18 June \nTime: 1600 – 1700 \nPrice: FOC \nOnline via zoom \nA talk from Alastair Barrett\, What No Safety Services Ltd \nWhat No Safety Services Ltd offers a bespoke health\, safety and environmental service. http://www.whatnosafety.co.uk/ \nAlastair entered the world of health and safety\, when an opportunity presented itself to carry out risk assessments whilst working with a shop fitting company\, and was then appointed the company’s health and safety officer. This set him on my health and safety journey and he is now a Corporate Member of the Institute of Occupational Safety and Health (IOSH) and a member of the Association of Project Safety (APS). \nDuring his career\, Alastair has worked as a consultant for an international building company and six years with a large housing association before setting up What No Safety Services Ltd in 2002 in Salisbury\, Wiltshire. They operate across the UK supporting organisations of all sizes and across a broad spectrum of industries. \n \n  \nPlease book below or send me an email to alison@cpdessentials.co.uk \n\n\n\n\n\n\nYou will be sent the link to join via zoom the day before
URL:https://cpdessentials.co.uk/event/webinar-risk/
LOCATION:Online\, via Zoom\, United Kingdom
CATEGORIES:For Building Surveyors,Quantity Surveying,Rural Practice,Webinars
ATTACH;FMTTYPE=image/png:https://cpdessentials.co.uk/wp-content/uploads/risk.png
ORGANIZER;CN="CPD Essentials":MAILTO:alison@cpdessentials.co.uk
END:VEVENT
BEGIN:VEVENT
DTSTART;TZID=UTC:20200623T160000
DTEND;TZID=UTC:20200623T170000
DTSTAMP:20260424T203307
CREATED:20200615T160242Z
LAST-MODIFIED:20200615T164448Z
UID:9237-1592928000-1592931600@cpdessentials.co.uk
SUMMARY:WEBINAR - Historic buildings - Historic roofing
DESCRIPTION:Historic buildings – Historic Roof Coverings\, Failures and Repair\nDate: Tuesday 23 June \nTime: 1600 – 1700 \nPrice: £18 (inc VAT) \nOnline via zoom \nA talk from Kevin Stubbs – this is the second in a series of talks Kevin will present over the next six weeks \nTalk will include details on: \n\nTiles\nSlate\nLead\n\nKevin Stubbs is a Historic Buildings Consultant and comes with a background of education\, archaeology and building conservation. He was Director of Archaeology for the Test Valley in Hampshire and later moved to Hampshire County Council to join the Historic Buildings Bureau\, where he became the Principal Buildings Conservation Officer for the County. For eleven years he acted as the Director of a Conservation Centre and now runs his own Historic Building Consultancy and Training Company. \nHe advises on the repair and maintenance of all historic structures and provides training at all levels for the building conservation industry.  This includes the development of historic building technology\, traditional materials and hands-on craft training.  Work for Local Government Authorities includes Conservation Area appraisals\, historic building condition surveys and feasibility studies.  He has provided training exercises with local communities to raise awareness of their village plans and local heritage interpretation documents and he has provided Traditional Skills Awareness Courses for a number of bodies. \nHe undertakes the Historic Analysis of buildings and produces: Statements of Significance; Method Statements; Impact Assessments and Specifications for the repair and conservation of traditional buildings. \nHe lectures for various CPD providers\, Universities and national building conservation organizations including SPAB\, RICS and the Weald and Downland Museum.  Topics include: Bricks and Mortar; Lime\, Plasters and Renders; Cob and Earth\, Timber Frame and Stone Structures and Traditional Roofing. \nPlease book below or send me an email to alison@cpdessentials.co.uk \n\n\n\n\n\n\nYou will be sent the link to join via zoom the day before
URL:https://cpdessentials.co.uk/event/webinar-roofing/
LOCATION:Online\, via Zoom\, United Kingdom
CATEGORIES:For Building Surveyors,For Residential Property Surveyors,Historic Buildings,Quantity Surveying,Rural Practice,Webinars
ATTACH;FMTTYPE=image/jpeg:https://cpdessentials.co.uk/wp-content/uploads/ks2.png-scaled.jpg
ORGANIZER;CN="CPD Essentials":MAILTO:alison@cpdessentials.co.uk
END:VEVENT
BEGIN:VEVENT
DTSTART;TZID=UTC:20200630T160000
DTEND;TZID=UTC:20200630T170000
DTSTAMP:20260424T203307
CREATED:20200629T100708Z
LAST-MODIFIED:20200629T133450Z
UID:9358-1593532800-1593536400@cpdessentials.co.uk
SUMMARY:WEBINAR - Historic buildings - Stone
DESCRIPTION:Historic buildings – Stone buildings\, care and repair\nDate: Tuesday 30 June \nTime: 1600 – 1700 \nPrice: £18 (inc VAT) \nOnline via zoom \nA talk from Kevin Stubbs – this is the second in a series of talks Kevin will present over the next six weeks \nTalk will include details on: \n\nTypes of stone\nQuarying\nWorking the stone\nPhilosophy of repair\nDecay problems\nCleaning & consolidation\nGrouting voids and Bonding\n\nKevin Stubbs is a Historic Buildings Consultant and comes with a background of education\, archaeology and building conservation. He was Director of Archaeology for the Test Valley in Hampshire and later moved to Hampshire County Council to join the Historic Buildings Bureau\, where he became the Principal Buildings Conservation Officer for the County. For eleven years he acted as the Director of a Conservation Centre and now runs his own Historic Building Consultancy and Training Company. \nHe advises on the repair and maintenance of all historic structures and provides training at all levels for the building conservation industry.  This includes the development of historic building technology\, traditional materials and hands-on craft training.  Work for Local Government Authorities includes Conservation Area appraisals\, historic building condition surveys and feasibility studies.  He has provided training exercises with local communities to raise awareness of their village plans and local heritage interpretation documents and he has provided Traditional Skills Awareness Courses for a number of bodies. \nHe undertakes the Historic Analysis of buildings and produces: Statements of Significance; Method Statements; Impact Assessments and Specifications for the repair and conservation of traditional buildings. \nHe lectures for various CPD providers\, Universities and national building conservation organizations including SPAB\, RICS and the Weald and Downland Museum.  Topics include: Bricks and Mortar; Lime\, Plasters and Renders; Cob and Earth\, Timber Frame and Stone Structures and Traditional Roofing. \nPlease book below or send me an email to alison@cpdessentials.co.uk \n\n\n\n\n\n\nYou will be sent the link to join via zoom the day before
URL:https://cpdessentials.co.uk/event/webinar-stone/
LOCATION:Online\, via Zoom\, United Kingdom
CATEGORIES:For Building Surveyors,For Residential Property Surveyors,Historic Buildings,Quantity Surveying,Rural Practice,Webinars
ATTACH;FMTTYPE=image/jpeg:https://cpdessentials.co.uk/wp-content/uploads/stone.jpg
ORGANIZER;CN="CPD Essentials":MAILTO:alison@cpdessentials.co.uk
END:VEVENT
END:VCALENDAR