BEGIN:VCALENDAR
VERSION:2.0
PRODID:-//CPD Essentials - ECPv6.15.14//NONSGML v1.0//EN
CALSCALE:GREGORIAN
METHOD:PUBLISH
X-ORIGINAL-URL:https://cpdessentials.co.uk
X-WR-CALDESC:Events for CPD Essentials
REFRESH-INTERVAL;VALUE=DURATION:PT1H
X-Robots-Tag:noindex
X-PUBLISHED-TTL:PT1H
BEGIN:VTIMEZONE
TZID:UTC
BEGIN:STANDARD
TZOFFSETFROM:+0000
TZOFFSETTO:+0000
TZNAME:UTC
DTSTART:20240101T000000
END:STANDARD
END:VTIMEZONE
BEGIN:VEVENT
DTSTART;TZID=UTC:20250408T000000
DTEND;TZID=UTC:20261212T235000
DTSTAMP:20260421T084222
CREATED:20210830T183743Z
LAST-MODIFIED:20260113T153432Z
UID:12285-1744070400-1797119400@cpdessentials.co.uk
SUMMARY:Webinar programme 2025
DESCRIPTION:After 4 successful years of running online events\, CPD essentials is continuing to run a webinar programme from June until the end of the year with 20 live webinars. \nThe cost of the Webicard which provides access to the hour long webinars (including the recordings) for the season is £144 (£120.00 plus VAT). \nIndividual attendance or a webinar recordings are £18.00 (£15.00 plus VAT). Each webinar is around 45 minutes\, with time for questions at the end. Each webinar will be either on a Wednesday or a Thursday evening at 5pm. \nIf you sign up part way through the year up you’ll be sent the links to all the previous recordings\, including handouts/information from the speaker if provided. \nThe events for 2025 are as follows: \n\n\n\n24 Apr\n Leasehold and Freehold Reform Act\nRichard Snape\n\n\n1 May\nBuilding Refurbishment: Systems for Retrofit and Conservation RIBA\nJoe\, Proctor Group\n\n\n8 May\nHistorically accurate glazing with modern build values\nBrian Scott\, HistoGlass\n\n\n15 May\nStanding Seam CPD\nElen Worthington\, Tata Steel\n\n\n22 May\nInternal Floor Drainage – Design & Specification\nDavid Broad\, Alumasc\n\n\n29 May\nImpact and Actions for Metal Roof and Wall Cladding Systems\nTBC\n\n\n5 June\nHighway Law and Parking Issues\nIan Quayle\, Property Law UK\n\n\n12 June\nSafety at Height\nStuart Pierpoint – MSA Safety\n\n\n19 June\nHidden Operational Risks That Undermine Asset Value: What Surveyors and Property Managers Overlook\nDeborah Israel\n\n\n26 June\nSolar PV CPD\nMichael Williams\, ICB\n\n\n\nSUMMER BREAK\n\n\n\n11 Sept\n The Building Safety Act 2022\nIan Quayle\, Property Law UK\n\n\n18 Sept\nAir Leakage & Fire Performance in Façade Systems RIBA\nJoe\, Proctor Group\n\n\n25 Sept\nTBC\nTBC\n\n\n2 Oct\nPassive House and Low Energy Housing Design RIBA\nJoe\, Proctor Group\n\n\n9 Oct\nRecent and Upcoming changes to fire safety \nJohn Palmer\n\n\n23 Oct\nBuilding Regulations and their interaction with Listed / Historic Buildings\nJohn Palmer\n\n\n5 Nov\nRenter’s Rights Bill\nRichard Snape\n\n\n13 Nov\nArchitectural Aluminium: A Complete Guide to Design & Specification\nIvan Colvil\, Alumasc\n\n\n20 Nov\nParty Wall Update\nBen Mackie – The Party Wall Collective\n\n\n27 Nov\nPitched Roof Design Considerations: Energy Moisture & Air Permeability RIBA\nJoe\, Proctor Group\n\n\n\nEach webinar costs £15.00 + £3.00 VAT (£18.00) or you can chose the Webicard option which entitles you to attend all the evening webinars throughout the year for £120 + £24 VAT (£144). This covers you for 20 live webinars up until the end of 2025\, with recordings available for those unable to attend the live events. \nYou can purchase your Webicard below. \nInformation and bookings on the individual events can be found on the event pages. \nThe link for the webinar will be sent to you at least 2 days before the live event starts.
URL:https://cpdessentials.co.uk/event/webicard-25/
CATEGORIES:For Residential Property Surveyors
ATTACH;FMTTYPE=image/png:https://cpdessentials.co.uk/wp-content/uploads/Screenshot-2025-04-08-161703.png
END:VEVENT
BEGIN:VEVENT
DTSTART;TZID=UTC:20250508T170000
DTEND;TZID=UTC:20251127T183000
DTSTAMP:20260421T084222
CREATED:20250422T141805Z
LAST-MODIFIED:20250502T102300Z
UID:18317-1746723600-1764268200@cpdessentials.co.uk
SUMMARY:WEBINAR - Historically accurate glazing with modern build values
DESCRIPTION:Date: 8 May 2025 \nSpeaker: Brian Scott\, HistoGlass \nTime: 17:00-18:00 (with time for questions at the end) \nThis CPD will explore different historic glazing types and which types were used in which era (to which vernacular it belongs). From there\, the presentation will demonstrate how historic glazing can be incorporated in modern systems to achieve both the correct historic look and feel as well as modern acoustic and thermal insulation values. By the end of the CPD you should have a greater understanding of: \n– How to identify historic glazing (which type it is and which era it belongs to) \n– How to specify the correct historic glass type in combination with either thin double glazing or laminated systems \n– How to identify which U and dB values are achievable for glazing in historic windows
URL:https://cpdessentials.co.uk/event/8may/
CATEGORIES:Evening seminars,For Building Surveyors,For Commercial Property Surveyors,For Residential Property Surveyors,Historic Buildings,Quantity Surveying,Rural Practice,Webinars
ATTACH;FMTTYPE=image/png:https://cpdessentials.co.uk/wp-content/uploads/Colorful-Abstract-Dancing-Image-Dance-Studio-Logo.png
END:VEVENT
END:VCALENDAR