BEGIN:VCALENDAR
VERSION:2.0
PRODID:-//CPD Essentials - ECPv6.15.14//NONSGML v1.0//EN
CALSCALE:GREGORIAN
METHOD:PUBLISH
X-WR-CALNAME:CPD Essentials
X-ORIGINAL-URL:https://cpdessentials.co.uk
X-WR-CALDESC:Events for CPD Essentials
REFRESH-INTERVAL;VALUE=DURATION:PT1H
X-Robots-Tag:noindex
X-PUBLISHED-TTL:PT1H
BEGIN:VTIMEZONE
TZID:UTC
BEGIN:STANDARD
TZOFFSETFROM:+0000
TZOFFSETTO:+0000
TZNAME:UTC
DTSTART:20220101T000000
END:STANDARD
END:VTIMEZONE
BEGIN:VEVENT
DTSTART;TZID=UTC:20230330T170000
DTEND;TZID=UTC:20230330T180000
DTSTAMP:20260421T162601
CREATED:20220916T141636Z
LAST-MODIFIED:20230207T220648Z
UID:14114-1680195600-1680199200@cpdessentials.co.uk
SUMMARY:Movement in brickwork
DESCRIPTION:Movement in brickwork\n\n  \nPrice: £12 .50 plus VAT (£15.00) or included in the webicard \nOnline via zoom \nPlease book below or send me an email to alison@cpdessentials.co.uk \n\n\n\n\n\n\nYou will be sent the link to join via zoom the day before \nAll webinars are recorded and can be viewed anytime after the event
URL:https://cpdessentials.co.uk/event/movement/
CATEGORIES:For Building Surveyors,For Commercial Property Surveyors,For Residential Property Surveyors,Webinars
END:VEVENT
END:VCALENDAR