BEGIN:VCALENDAR
VERSION:2.0
PRODID:-//CPD Essentials - ECPv6.15.14//NONSGML v1.0//EN
CALSCALE:GREGORIAN
METHOD:PUBLISH
X-ORIGINAL-URL:https://cpdessentials.co.uk
X-WR-CALDESC:Events for CPD Essentials
REFRESH-INTERVAL;VALUE=DURATION:PT1H
X-Robots-Tag:noindex
X-PUBLISHED-TTL:PT1H
BEGIN:VTIMEZONE
TZID:UTC
BEGIN:STANDARD
TZOFFSETFROM:+0000
TZOFFSETTO:+0000
TZNAME:UTC
DTSTART:20220101T000000
END:STANDARD
END:VTIMEZONE
BEGIN:VEVENT
DTSTART;TZID=UTC:20230302T170000
DTEND;TZID=UTC:20230302T180000
DTSTAMP:20260421T162603
CREATED:20230125T181048Z
LAST-MODIFIED:20230125T181130Z
UID:14731-1677776400-1677780000@cpdessentials.co.uk
SUMMARY:Boundary disputes - update for 2023
DESCRIPTION:Boundary disputes update for 2023 \nSpeaker Ian Quayle \nIan qualified as a solicitor and worked in private practice for 13 years specialising in property law matters including residential development work\, commercial acquisitions and disposals. \nIan has delivered over 1500 property related training courses for city and regional firms\, local law societies and local authorities. His training style and delivery is relaxed\, but he is able to explain the law and practical issues relating to the training topic in a way that ensures delegates learn\, or reinforce learning\, and derive meaningful benefit from the training provided. \nIan has provided training to businesses in-house\, public courses\, and spoken at conferences. He is prolific in his delivery of webinars on conveyancing related issues\, and he has delivered live and pre-recorded webinars nationally and internationally for both of the leading legal training providers and continues to do so. \n 
URL:https://cpdessentials.co.uk/event/boundary-disputes-update-for-2023/
CATEGORIES:Evening seminars,For Building Surveyors,For Commercial Property Surveyors,For Residential Property Surveyors
END:VEVENT
BEGIN:VEVENT
DTSTART;TZID=UTC:20230316T170000
DTEND;TZID=UTC:20230316T180000
DTSTAMP:20260421T162603
CREATED:20230109T193353Z
LAST-MODIFIED:20230207T215332Z
UID:14648-1678986000-1678989600@cpdessentials.co.uk
SUMMARY:Five levels of a smart home
DESCRIPTION:Smart homes are all the rage today\, but do you really know the difference between smart things and a truly smart home? Come learn about the current state of smart home technology with Control4 as we explain the five levels of a smart home and what that means to you in design. You’ll learn the difference between limited integration and whole-home integration\, the art of automation orchestration\, and where the future of smart home is going. Get ready to set yourself apart as you incorporate automation into your designs with this innovative understanding of smart home technology. \nLEARNING OBJECTIVES\n\nLearn the difference between smart products and a smart home\nUnderstand what true integration is and how it benefits your clients\nDiscover where smart home is going and how you can stand out with it now\nGain an understanding of the importance of working with a smart home professional\n\n  \nDate: Thursday 16 March \nTime: 1700 – 1800 \nPrice: £12 .50 plus VAT (£15.00) or included in the webicard \nOnline via zoom \nPlease book below or send me an email to alison@cpdessentials.co.uk \n\n\n\n\n\n\nYou will be sent the link to join via zoom the day before \nAll webinars are recorded and can be viewed anytime after the event
URL:https://cpdessentials.co.uk/event/smart-home/
CATEGORIES:For Building Surveyors,For Commercial Property Surveyors,For Residential Property Surveyors,Webinars
END:VEVENT
BEGIN:VEVENT
DTSTART;TZID=UTC:20230330T170000
DTEND;TZID=UTC:20230330T180000
DTSTAMP:20260421T162603
CREATED:20220916T141636Z
LAST-MODIFIED:20230207T220648Z
UID:14114-1680195600-1680199200@cpdessentials.co.uk
SUMMARY:Movement in brickwork
DESCRIPTION:Movement in brickwork\n\n  \nPrice: £12 .50 plus VAT (£15.00) or included in the webicard \nOnline via zoom \nPlease book below or send me an email to alison@cpdessentials.co.uk \n\n\n\n\n\n\nYou will be sent the link to join via zoom the day before \nAll webinars are recorded and can be viewed anytime after the event
URL:https://cpdessentials.co.uk/event/movement/
CATEGORIES:For Building Surveyors,For Commercial Property Surveyors,For Residential Property Surveyors,Webinars
END:VEVENT
END:VCALENDAR