BEGIN:VCALENDAR
VERSION:2.0
PRODID:-//CPD Essentials - ECPv6.15.14//NONSGML v1.0//EN
CALSCALE:GREGORIAN
METHOD:PUBLISH
X-ORIGINAL-URL:https://cpdessentials.co.uk
X-WR-CALDESC:Events for CPD Essentials
REFRESH-INTERVAL;VALUE=DURATION:PT1H
X-Robots-Tag:noindex
X-PUBLISHED-TTL:PT1H
BEGIN:VTIMEZONE
TZID:UTC
BEGIN:STANDARD
TZOFFSETFROM:+0000
TZOFFSETTO:+0000
TZNAME:UTC
DTSTART:20150101T000000
END:STANDARD
END:VTIMEZONE
BEGIN:VEVENT
DTSTART;VALUE=DATE:20160701
DTEND;VALUE=DATE:20160702
DTSTAMP:20260421T145316
CREATED:20160131T165752Z
LAST-MODIFIED:20160425T145712Z
UID:2245-1467331200-1467417599@cpdessentials.co.uk
SUMMARY:Historic Building workshop\, Cressing Temple Barns\, Braintree
DESCRIPTION:Historic Building workshops\n\n\nRoofing\n\nDate: 1 July 2016 \nWhen: 1000 – 1630 \nWhere: Cressing\, Temple Barns\, Braintree\, Essex \nCost:  £120.00 plus VAT (£144.00) to include seminar proceedings\, all refreshments\, lunch and comprehensive delegate pack \nThe day’s course will consider in depth three aspects of building conservation. \n[custom_list style=”list-1″] \n\nThe care and repair of historic timber frames and roof structures\nThe range of historic roof coverings\nProblems of decay and methods of repair\n\n[/custom_list] \nThe venue has been carefully chosen as it represents an extremely fine example of the medieval carpenter’s craft. The 13th century grade 1 listed Barley and Wheat barns are some of the earliest and best surviving barns in England and Europe. The associated ancillary buildings date from the 16th\, 17th\, and 18th centuries and illustrate the development of building techniques. The buildings illustrate a wide range of roofing and building materials used at various periods. \nMain Themes \n[custom_list style=”list-1″] \n\n\n\nThe historic development of timber frames and roof structures\nCauses of decay and failure including mechanical failure\, rot and insect attack.\nApproach to structural repairs\, selection and use of materials and techniques.\nThatch\, problems of decay\, selection of materials\, fire and fire mitigation.\nShingle\, decay and repair including selection of materials.\nTile\, history\, manufacture\, problems of decay and repair.\nSlate\, Metamorphic and stone\, history and quarrying\, problems of failure\, selection of materials and repair.\nLead\, flashings and lead sheet\, problems including under sheet corrosion\, acid attack\, correct detailing and installation.\nOther sheet materials and rainwater disposal.\nChimney pots and roofscapes\n\n[/custom_list] \n\n\n  \nSpeaker \nKevin Stubbs BA(Hons)  DipBldgCons(AA)  IHBC   CertEd\nKevin Stubbs is a Historic Buildings Consultant and comes with a background of education\, archaeology and building conservation. He was Director of Archaeology for the Test Valley in Hampshire and later moved to Hampshire County Council to join the Historic Buildings Bureau\, where he became the Principal Buildings Conservation Officer for the County. For eleven years he acted as the Director of a Conservation Centre and now runs his own Historic Building Consultancy and Training Company. \nHe advises on the repair and maintenance of all historic structures and provides training at all levels for the building conservation industry.  This includes the development of historic building technology\, traditional materials and hands-on craft training.  Work for Local Government Authorities includes Conservation Area appraisals\, historic building condition surveys and feasibility studies.  He has provided training exercises with local communities to raise awareness of their village plans and local heritage interpretation documents and he has provided Traditional Skills Awareness Courses for a number of bodies. \nHe undertakes the Historic Analysis of buildings and produces: Statements of Significance; Method Statements; Impact Assessments and Specifications for the repair and conservation of traditional buildings. \nHe lectures for various CPD providers\, Universities and national building conservation organizations including SPAB\, RICS and the Weald and Downland Museum.  Topics include: Bricks and Mortar; Lime\, Plasters and Renders; Cob and Earth\, Timber Frame and Stone Structures and Traditional Roofing. \n\nThe day will include formal Power Point presentations\, material handling sessions and first hand observations of the building.\nCressing flyer can be downloaded here \ncressing booking form can be downloaded here
URL:https://cpdessentials.co.uk/event/historic-building-workshop-cressing/
LOCATION:Cressing Temple Barns\, Witham Rd\, Cressing\, CM77 8PD
CATEGORIES:Historic Buildings
ORGANIZER;CN="CPD Essentials":MAILTO:alison@cpdessentials.co.uk
END:VEVENT
END:VCALENDAR