BEGIN:VCALENDAR
VERSION:2.0
PRODID:-//CPD Essentials - ECPv6.15.14//NONSGML v1.0//EN
CALSCALE:GREGORIAN
METHOD:PUBLISH
X-ORIGINAL-URL:https://cpdessentials.co.uk
X-WR-CALDESC:Events for CPD Essentials
REFRESH-INTERVAL;VALUE=DURATION:PT1H
X-Robots-Tag:noindex
X-PUBLISHED-TTL:PT1H
BEGIN:VTIMEZONE
TZID:UTC
BEGIN:STANDARD
TZOFFSETFROM:+0000
TZOFFSETTO:+0000
TZNAME:UTC
DTSTART:20150101T000000
END:STANDARD
END:VTIMEZONE
BEGIN:VEVENT
DTSTART;VALUE=DATE:20160623
DTEND;VALUE=DATE:20160624
DTSTAMP:20260421T162234
CREATED:20160308T132022Z
LAST-MODIFIED:20160308T133752Z
UID:2411-1466640000-1466726399@cpdessentials.co.uk
SUMMARY:Commercial Property CPD Day - Bristol
DESCRIPTION:A full day of CPD aimed at those working as Commercial Property Surveyors within private practice or local government. A lively mix of topics will be presented which will include: \n[custom_list style=”list-1″] \n\nProperty cycles\nLandlord and Tenant update\nRating revaluation\nPlanning update\nTechnical due diligence\nCommercial development appraisals\nMEES\nRed book update\n\n[/custom_list] \nThe confirmed programme will be available soon \n£110.00 plus VAT (£132.00) \nPrice includes conference proceedings\, all refreshments including lunch and comprehensive delegate pack. \nCPD – Up to 6 formal hours \nBookings can be made online or by cheque/BACS \nDownload the Programme Bristol \nDownload the booking form bristol
URL:https://cpdessentials.co.uk/event/comm-prop-bristol/
LOCATION:Holiday Inn\, Bristol Filton\, Filton Rd\, Bristol\, BS16 1QX
CATEGORIES:For Commercial Property Surveyors
ORGANIZER;CN="CPD Essentials":MAILTO:alison@cpdessentials.co.uk
END:VEVENT
END:VCALENDAR