BEGIN:VCALENDAR
VERSION:2.0
PRODID:-//CPD Essentials - ECPv6.15.14//NONSGML v1.0//EN
CALSCALE:GREGORIAN
METHOD:PUBLISH
X-WR-CALNAME:CPD Essentials
X-ORIGINAL-URL:https://cpdessentials.co.uk
X-WR-CALDESC:Events for CPD Essentials
REFRESH-INTERVAL;VALUE=DURATION:PT1H
X-Robots-Tag:noindex
X-PUBLISHED-TTL:PT1H
BEGIN:VTIMEZONE
TZID:UTC
BEGIN:STANDARD
TZOFFSETFROM:+0000
TZOFFSETTO:+0000
TZNAME:UTC
DTSTART:20150101T000000
END:STANDARD
END:VTIMEZONE
BEGIN:VEVENT
DTSTART;TZID=UTC:20160617T090000
DTEND;TZID=UTC:20160617T123000
DTSTAMP:20260421T162433
CREATED:20160506T153055Z
LAST-MODIFIED:20160510T104446Z
UID:2599-1466154000-1466166600@cpdessentials.co.uk
SUMMARY:Building regs\, CDM and fire safety workshop\, Kent
DESCRIPTION:Half day workshops with limited numbers to ensure your individual issues are addressed \nThe session will provide an update on the changes to Building Regulations and the link to planning conditions\, an overview of the changes implemented through CDM 2015\, and a review of fire safety principles and the use of sprinklers in open plan layouts. \nThe session aims to provide a practical viewpoint on how to achieve compliance\, and there will be an opportunity to discuss specific queries and plenty of time for questions. \nThe presenter is Colin Blatchford-Brown\, a regular presenter on Building Regulations and fire safety\, with more than 25 years experience in building control. \n  \n£75.00 plus VAT (£90.00) \nPrice includes conference proceedings\, breakfast and mid morning refreshments and a comprehensive delegate pack. \nCPD – up to 3.5 formal hours \nBookings can be made online or by cheque/BACS
URL:https://cpdessentials.co.uk/event/building-regs-cdm-and-fire-safety-workshop-kent/
LOCATION:Singleton Environmental Centre\, Wesley School Road\, Singleton\, Ashford\, Kent\, TN23 5LW\, United Kingdom
ORGANIZER;CN="CPD Essentials":MAILTO:alison@cpdessentials.co.uk
END:VEVENT
END:VCALENDAR