BEGIN:VCALENDAR
VERSION:2.0
PRODID:-//CPD Essentials - ECPv6.15.14//NONSGML v1.0//EN
CALSCALE:GREGORIAN
METHOD:PUBLISH
X-WR-CALNAME:CPD Essentials
X-ORIGINAL-URL:https://cpdessentials.co.uk
X-WR-CALDESC:Events for CPD Essentials
REFRESH-INTERVAL;VALUE=DURATION:PT1H
X-Robots-Tag:noindex
X-PUBLISHED-TTL:PT1H
BEGIN:VTIMEZONE
TZID:UTC
BEGIN:STANDARD
TZOFFSETFROM:+0000
TZOFFSETTO:+0000
TZNAME:UTC
DTSTART:20150101T000000
END:STANDARD
END:VTIMEZONE
BEGIN:VEVENT
DTSTART;TZID=UTC:20160427T080000
DTEND;TZID=UTC:20160427T170000
DTSTAMP:20260421T180154
CREATED:20160131T154724Z
LAST-MODIFIED:20160321T115322Z
UID:2228-1461744000-1461776400@cpdessentials.co.uk
SUMMARY:Residential essentials - Cambridge
DESCRIPTION:CPD Day for Residential Property Surveyors\n\n\nDATE: 27 April  2016\nTIME: 0900 – 1700\nLOCATION: Holiday Inn\, Cambridge\nPRICE: £110.00 plus VAT (£132.00)\n\n\nA full day of CPD aimed at those working as Residential Property Surveyors\, this is a great way of fulfilling 6 hours of your formal CPD requirements.\n\nFollowing the success of the Residential essentials CPD series in 2015 around the UK\, CPD essentials is delighted to advise that the series of one day conferences with all new topics for 2016 aimed at Residential Property Professionals is now on sale and is coming for the first time to Cambridge.\n\nFeedback from the 2015 events includes “the best value for money CPD day I have ever attended”\n\nWell known and respected speakers such as Phillip Santo and Tom Littler\, will provide essential updates on RICS guidance to include:\n\n\n\n[custom_list style=”list-1″] \n\nDiminution of value\nTrees\nStructural movement\nFungal decay\nRICS regulation update\nRisks\nPrivate drainage\nChimneys/flues\n\n[/custom_list] \n\n\nThe full programme can be downloaded here Programme Residential \n\nThe cost of the day to include conference proceedings\, all refreshments\, lunch and a comprehensive delegate pack is £110 plus VAT £22.00 = £132.00\n\nPlease book your place by completing the booking form and returning with a cheque of paying by internet banking and emailing the form back. Invoices can be raised on request.  An acknowledgement and receipt will be emailed by return.
URL:https://cpdessentials.co.uk/event/residential-essentials-cambridge-2/
LOCATION:Holiday Inn\, Cambridge\, Lakeview\, Bridge Rd\, Cambridge\, CB24 9PH\, United Kingdom
CATEGORIES:For Residential Property Surveyors
END:VEVENT
END:VCALENDAR